BEGIN:VCALENDAR
VERSION:2.0
PRODID:-//Tukios.com/
BEGIN:VEVENT
UID:c371ec11-4dd2-4c5f-b4e1-6ab2260f9316@www.reecefuneralhomeinc.com
DTSTAMP:20260425T233543Z
DTSTART:20260428T160000Z
DTEND:20260428T180000Z
SUMMARY:Visitation
DESCRIPTION:
URL:https://www.reecefuneralhomeinc.com/obituaries/ann-eubanks
LOCATION: 15548 US-80  Jeffersonville GA 31044
GEO:32.6661141;-83.324301
END:VEVENT
END:VCALENDAR