BEGIN:VCALENDAR
VERSION:2.0
PRODID:-//Tukios.com/
BEGIN:VEVENT
UID:7090c3c7-8d7a-45b2-a06b-2ae771100a8d@www.reecefuneralhomeinc.com
DTSTAMP:20260425T233621Z
DTSTART:20260428T180000Z
DTEND:20260428T190000Z
SUMMARY:Funeral Service
DESCRIPTION:
URL:https://www.reecefuneralhomeinc.com/obituaries/ann-eubanks
LOCATION: 15548 US-80  Jeffersonville GA 31044
GEO:32.6661141;-83.324301
END:VEVENT
END:VCALENDAR