BEGIN:VCALENDAR
VERSION:2.0
PRODID:-//Tukios.com/
BEGIN:VEVENT
UID:3947ddaa-00f0-4a84-b3ba-da893709ae93@www.reecefuneralhomeinc.com
DTSTAMP:20260421T021630Z
DTSTART:20260423T140000Z
DTEND:20260423T150000Z
SUMMARY:Visitation
DESCRIPTION:
URL:https://www.reecefuneralhomeinc.com/obituaries/beverly-bowden
LOCATION: 854 Riggins Mill Road  Dry Branch GA 31020
GEO:32.7620909;-83.4921491
END:VEVENT
END:VCALENDAR