BEGIN:VCALENDAR
VERSION:2.0
PRODID:-//Tukios.com/
BEGIN:VEVENT
UID:d8cec50d-ba94-469f-9143-e1fe73c6941e@www.reecefuneralhomeinc.com
DTSTAMP:20260421T021619Z
DTSTART:20260423T150000Z
DTEND:20260423T160000Z
SUMMARY:Funeral Service
DESCRIPTION:
URL:https://www.reecefuneralhomeinc.com/obituaries/beverly-bowden
LOCATION: 854 Riggins Mill Road  Dry Branch GA 31020
GEO:32.7620909;-83.4921491
END:VEVENT
END:VCALENDAR