BEGIN:VCALENDAR
VERSION:2.0
PRODID:-//Tukios.com/
BEGIN:VEVENT
UID:10460061-0f16-4059-bbfa-0c85222c4579@www.reecefuneralhomeinc.com
DTSTAMP:20260421T022309Z
DTSTART:20260423
SUMMARY:Burial
DESCRIPTION:
URL:https://www.reecefuneralhomeinc.com/obituaries/beverly-bowden
LOCATION: 854 Riggins Mill Road  Dry Branch GA 31020
GEO:32.7620909;-83.4921491
END:VEVENT
END:VCALENDAR